
BEGIN:VCALENDAR
VERSION:2.0
PRODID:-//MarkedsPartner AS//Umbraco CMS//NO
TIMEZONE-ID:Europe/Oslo
X-WR-TIMEZONE:Europe/Oslo


BEGIN:VEVENT
UID:2d0af4af5ae040a9a2a1bbf3de67592d
URL:https://umbraco.naeringsforeningen.no/moeter/arkiv/brexit_04022021/
ORGANIZER;CN=Ola Normann:MAILTO:ola.normann@markedspartner.no
DTSTAMP:20210204T100000Z
DTSTART:20210204T100000Z
DTEND:20210204T111500Z
LAST-MODIFIED:20221031T120328Z
SUMMARY:Brexit-konsekvenser for Rogaland
DESCRIPTION:DIGITALKONFERANSE: Brexit en realitet, og vi gir deg oversikt over utfallet av Brexit-avtalen. Hva er reglene, og hvilke betydninger og konsekvenser har avtalen for næringslivet i Rogaland?
X-ALT-DESC:DIGITALKONFERANSE: Brexit en realitet, og vi gir deg oversikt over utfallet av Brexit-avtalen. Hva er reglene, og hvilke betydninger og konsekvenser har avtalen for n&#230;ringslivet i Rogaland?
LOCATION:Online
END:VEVENT


END:VCALENDAR



