
BEGIN:VCALENDAR
VERSION:2.0
PRODID:-//MarkedsPartner AS//Umbraco CMS//NO
TIMEZONE-ID:Europe/Oslo
X-WR-TIMEZONE:Europe/Oslo


BEGIN:VEVENT
UID:39d8ead50f5a4e92b45f945609f92c5b
URL:https://umbraco.naeringsforeningen.no/moeter/arkiv/bransjevandring-kreative-naeringer_05_03_2020/
ORGANIZER;CN=Ola Normann:MAILTO:ola.normann@markedspartner.no
DTSTAMP:20200305T160000Z
DTSTART:20200305T160000Z
DTEND:20200305T210000Z
LAST-MODIFIED:20221031T120059Z
SUMMARY:Bransjevandring for kreative næringer
DESCRIPTION:Kreative kommersielle næringer har som visjon å bidra til innovasjon i samfunnet gjennom kreativt, tverrfaglig samarbeid i regionen. Målet med bransjevandringene er å knytte de kreative fagene tettere sammen og synliggjøre mangfoldet av lokalt kreativt arbeid og virke.
X-ALT-DESC:Kreative kommersielle n&#230;ringer har som visjon &#229; bidra til innovasjon i samfunnet gjennom kreativt, tverrfaglig samarbeid i regionen. M&#229;let med bransjevandringene er &#229; knytte de kreative fagene tettere sammen og synliggj&#248;re mangfoldet av lokalt kreativt arbeid og virke.
LOCATION:Stavanger sentrum
END:VEVENT


END:VCALENDAR



