
BEGIN:VCALENDAR
VERSION:2.0
PRODID:-//MarkedsPartner AS//Umbraco CMS//NO
TIMEZONE-ID:Europe/Oslo
X-WR-TIMEZONE:Europe/Oslo


BEGIN:VEVENT
UID:2f9e0be6dcdd45029313997e86e4a1d6
URL:https://umbraco.naeringsforeningen.no/moeter/arkiv/bransjevandring-kkn_vaar2023/
ORGANIZER;CN=Ola Normann:MAILTO:ola.normann@markedspartner.no
DTSTAMP:20230202T160000Z
DTSTART:20230202T160000Z
DTEND:20230202T210000Z
LAST-MODIFIED:20230214T150247Z
SUMMARY:Bransjevandring kreative kommersielle næringer
DESCRIPTION:Hva gjør de på, alle de flinke bransjekollegaene våre? Hvordan kan vi bli enda flinkere til å samarbeide på tvers av arbeidssted og fag? Dette skal vi fortsette å finne ut av.
X-ALT-DESC:Hva gj&#248;r de p&#229;, alle de flinke bransjekollegaene v&#229;re? Hvordan kan vi bli enda flinkere til &#229; samarbeide p&#229; tvers av arbeidssted og fag? Dette skal vi fortsette &#229; finne ut av.
LOCATION:Stavanger &#248;st
END:VEVENT


END:VCALENDAR



