
BEGIN:VCALENDAR
VERSION:2.0
PRODID:-//MarkedsPartner AS//Umbraco CMS//NO
TIMEZONE-ID:Europe/Oslo
X-WR-TIMEZONE:Europe/Oslo


BEGIN:VEVENT
UID:97cb426c68e94d669307ea1b9a0db962
URL:https://umbraco.naeringsforeningen.no/moeter/arkiv/bransjevandring-kkn_hoest2022/
ORGANIZER;CN=Ola Normann:MAILTO:ola.normann@markedspartner.no
DTSTAMP:20220922T150000Z
DTSTART:20220922T150000Z
DTEND:20220922T200000Z
LAST-MODIFIED:20221031T115729Z
SUMMARY:Bransjevandring kreative kommersielle næringer
DESCRIPTION:Kreative kommersielle næringer har som visjon å bidra til innovasjon i samfunnet gjennom kreativt, tverrfaglig samarbeid i regionen. Målet med bransjevandringene er å knytte de kreative fagene tettere sammen og synliggjøre mangfoldet av lokalt kreativt arbeid og virke.
X-ALT-DESC:Kreative kommersielle n&#230;ringer har som visjon &#229; bidra til innovasjon i samfunnet gjennom kreativt, tverrfaglig samarbeid i regionen. M&#229;let med bransjevandringene er &#229; knytte de kreative fagene tettere sammen og synliggj&#248;re mangfoldet av lokalt kreativt arbeid og virke.
LOCATION:
END:VEVENT


END:VCALENDAR



