
BEGIN:VCALENDAR
VERSION:2.0
PRODID:-//MarkedsPartner AS//Umbraco CMS//NO
TIMEZONE-ID:Europe/Oslo
X-WR-TIMEZONE:Europe/Oslo


BEGIN:VEVENT
UID:2db760049be0436aabeb72869a7517d5
URL:https://umbraco.naeringsforeningen.no/moeter/arkiv/bransjevandring-kkn_2024/
ORGANIZER;CN=Ola Normann:MAILTO:ola.normann@markedspartner.no
DTSTAMP:20240911T150000Z
DTSTART:20240911T150000Z
DTEND:20240911T190000Z
LAST-MODIFIED:20240912T093427Z
SUMMARY:Bransjevandring med kreative kommersielle næringer
DESCRIPTION:Hva gjør de på, alle de flinke bransjekollegaene våre? Hvordan kan vi bli enda flinkere til å samarbeide på tvers av arbeidssted og fag? Dette skal vi fortsette å finne ut av. Kreative kommersielle næringer har som visjon å bidra til innovasjon i samfunnet gjennom kreativt, tverrfaglig samarbeid i regionen. Målet med bransjevandringene er å knytte de kreative fagene tettere sammen og synliggjøre mangfoldet av lokalt kreativt arbeid og virke.
X-ALT-DESC:Hva gj&#248;r de p&#229;, alle de flinke bransjekollegaene v&#229;re? Hvordan kan vi bli enda flinkere til &#229; samarbeide p&#229; tvers av arbeidssted og fag? Dette skal vi fortsette &#229; finne ut av. Kreative kommersielle n&#230;ringer har som visjon &#229; bidra til innovasjon i samfunnet gjennom kreativt, tverrfaglig samarbeid i regionen. M&#229;let med bransjevandringene er &#229; knytte de kreative fagene tettere sammen og synliggj&#248;re mangfoldet av lokalt kreativt arbeid og virke.
LOCATION:Stavanger sentrum
END:VEVENT


END:VCALENDAR



