
BEGIN:VCALENDAR
VERSION:2.0
PRODID:-//MarkedsPartner AS//Umbraco CMS//NO
TIMEZONE-ID:Europe/Oslo
X-WR-TIMEZONE:Europe/Oslo


BEGIN:VEVENT
UID:e7ff5d34168c40338b1c2df5a7113183
URL:https://umbraco.naeringsforeningen.no/moeter/arkiv/bransjeseminar-bygg-og-anlegg_07112023/
ORGANIZER;CN=Ola Normann:MAILTO:ola.normann@markedspartner.no
DTSTAMP:20231107T080000Z
DTSTART:20231107T080000Z
DTEND:20231107T103000Z
LAST-MODIFIED:20231108T094006Z
SUMMARY:Bransjeseminar for bygg- og anleggsbransjen i Dalane
DESCRIPTION:BDO og Næringsforeningen i Stavanger-regionen inviterer til bransjeseminar for bygg- og anleggsbransjen.
X-ALT-DESC:BDO og N&#230;ringsforeningen i Stavanger-regionen inviterer til bransjeseminar for bygg- og anleggsbransjen.
LOCATION:Grand Hotell Egersund
END:VEVENT


END:VCALENDAR



