
BEGIN:VCALENDAR
VERSION:2.0
PRODID:-//MarkedsPartner AS//Umbraco CMS//NO
TIMEZONE-ID:Europe/Oslo
X-WR-TIMEZONE:Europe/Oslo


BEGIN:VEVENT
UID:785c1c29db1240cf85ae5314f646fbab
URL:https://umbraco.naeringsforeningen.no/moeter/arkiv/bransjeanalyse-bygg-og-anlegg_06112024/
ORGANIZER;CN=Ola Normann:MAILTO:ola.normann@markedspartner.no
DTSTAMP:20241106T073000Z
DTSTART:20241106T073000Z
DTEND:20241106T100000Z
LAST-MODIFIED:20241106T150602Z
SUMMARY:Dalane: Bransjeanalyse for bygg- og anleggsbransjen
DESCRIPTION:Bli med på BDOs årlige bransjeanalyse for bygg- og anleggsbransjen! Den ferske bransjeanalysen vil belyse hvordan du kan utnytte mulighetene i dagens marked og sikre din virksomhet for framtiden.
X-ALT-DESC:Bli med p&#229; BDOs &#229;rlige bransjeanalyse for bygg- og anleggsbransjen! Den ferske bransjeanalysen vil belyse hvordan du kan utnytte mulighetene i dagens marked og sikre din virksomhet for framtiden.
LOCATION:Grand Hotell, Johan Feyersgt. 3, 4370 Egersund
END:VEVENT


END:VCALENDAR



