
BEGIN:VCALENDAR
VERSION:2.0
PRODID:-//MarkedsPartner AS//Umbraco CMS//NO
TIMEZONE-ID:Europe/Oslo
X-WR-TIMEZONE:Europe/Oslo


BEGIN:VEVENT
UID:7e44ad65dcc44cd89ce0fd8408e110c7
URL:https://umbraco.naeringsforeningen.no/moeter/arkiv/boligkonferansen-2024/
ORGANIZER;CN=Ola Normann:MAILTO:ola.normann@markedspartner.no
DTSTAMP:20241023T090000Z
DTSTART:20241023T090000Z
DTEND:20241023T180000Z
LAST-MODIFIED:20241024T141556Z
SUMMARY:BOLIGKONFERANSEN 2024: Høy etterspørsel og ny vekst!
DESCRIPTION:Brukte boliger selger som varmt hvetebrød og vi ser en gryende vekst i nyboligsalget. Hva vil markedet kreve av oss framover? Hva forventer de mange seniorkjøperne og hvilke miljøkrav må vi forholde oss til? Svarene får du når boligbransjen møtes på Boligkonferansen 2024. Blant foredragsholderne er sjeføkonom Elisabeth Holvik, boligforsker André Kallåk Anundsen, statsforvalter Bent Høie og artist Hanne Sørvaag – mens Johan Helgø er konferansier.
X-ALT-DESC:Brukte boliger selger som varmt hvetebr&#248;d og vi ser en gryende vekst i nyboligsalget. Hva vil markedet kreve av oss framover? Hva forventer de mange seniorkj&#248;perne og hvilke milj&#248;krav m&#229; vi forholde oss til? Svarene f&#229;r du n&#229;r boligbransjen m&#248;tes p&#229; Boligkonferansen 2024. Blant foredragsholderne er sjef&#248;konom Elisabeth Holvik, boligforsker Andr&#233; Kall&#229;k Anundsen, statsforvalter Bent H&#248;ie og artist Hanne S&#248;rvaag – mens Johan Helg&#248; er konferansier.
LOCATION:Fiskepiren
END:VEVENT


END:VCALENDAR



