
BEGIN:VCALENDAR
VERSION:2.0
PRODID:-//MarkedsPartner AS//Umbraco CMS//NO
TIMEZONE-ID:Europe/Oslo
X-WR-TIMEZONE:Europe/Oslo


BEGIN:VEVENT
UID:b68bed4dc40544ccad5c324c1371e51d
URL:https://umbraco.naeringsforeningen.no/moeter/arkiv/boligkonferansen-2023/
ORGANIZER;CN=Ola Normann:MAILTO:ola.normann@markedspartner.no
DTSTAMP:20231025T090000Z
DTSTART:20231025T090000Z
DTEND:20231025T180000Z
LAST-MODIFIED:20231215T094621Z
SUMMARY:BOLIGKONFERANSEN 2023: Utvikling i skiftende tider
DESCRIPTION:Hva skjer med boligrentene, hvordan påvirkes boligprisene og ikke minst – hvordan skal vi bygge framover? Boligkonferansen gir deg svar på det viktigste for bransjen akkurat nå. Blant årets foredragsholdere er seniorøkonom Sara Midtgaard, Cathrine Vigander fra ELEMENT Arkitekter, Are Oust fra NTNU Handelshøyskolen og ikke minst nasjonalbibliotekar Aslak Sira Myhre. Vi tar også debatten om samarbeid på tvers av kommunegrensene, det blir get together, middag – alt i den den nyåpnede storstuen «Fiskepiren».
X-ALT-DESC:Hva skjer med boligrentene, hvordan p&#229;virkes boligprisene og ikke minst – hvordan skal vi bygge framover? Boligkonferansen gir deg svar p&#229; det viktigste for bransjen akkurat n&#229;. Blant &#229;rets foredragsholdere er senior&#248;konom Sara Midtgaard, Cathrine Vigander fra ELEMENT Arkitekter, Are Oust fra NTNU Handelsh&#248;yskolen og ikke minst nasjonalbibliotekar Aslak Sira Myhre. Vi tar ogs&#229; debatten om samarbeid p&#229; tvers av kommunegrensene, det blir get together, middag – alt i den den ny&#229;pnede storstuen &#171;Fiskepiren&#187;.
LOCATION:Fiskepiren
END:VEVENT


END:VCALENDAR



