
BEGIN:VCALENDAR
VERSION:2.0
PRODID:-//MarkedsPartner AS//Umbraco CMS//NO
TIMEZONE-ID:Europe/Oslo
X-WR-TIMEZONE:Europe/Oslo


BEGIN:VEVENT
UID:113c2a0875d94750aea5b511332ef208
URL:https://umbraco.naeringsforeningen.no/moeter/arkiv/boligkonferansen-2022/
ORGANIZER;CN=Ola Normann:MAILTO:ola.normann@markedspartner.no
DTSTAMP:20221019T090000Z
DTSTART:20221019T090000Z
DTEND:20221019T180000Z
LAST-MODIFIED:20221103T071502Z
SUMMARY:BOLIGKONFERANSEN 2022: Den attraktive Stavanger-regionen
DESCRIPTION:Boligkonferansen 2022 ser på hva som gjør regionen attraktiv, hvordan vi bygger attraktivt og skaper attraktive nabolag. Vi vil dessuten gi en grundig gjennomgang av markedet og hvordan inflasjonen vil påvirke oss framover. Årets konferanse ledes av journalist og programleder Hilde Sandvik, mens Henning Lauridsen fra Eiendom Norge og tidligere fotballspiller og TV-kommentator Erik Thorstvedt er blant foredragsholderne – når vi denne gangen inviterer alle til Tou Scene.
X-ALT-DESC:Boligkonferansen 2022 ser p&#229; hva som gj&#248;r regionen attraktiv, hvordan vi bygger attraktivt og skaper attraktive nabolag. Vi vil dessuten gi en grundig gjennomgang av markedet og hvordan inflasjonen vil p&#229;virke oss framover. &#197;rets konferanse ledes av journalist og programleder Hilde Sandvik, mens Henning Lauridsen fra Eiendom Norge og tidligere fotballspiller og TV-kommentator Erik Thorstvedt er blant foredragsholderne – n&#229;r vi denne gangen inviterer alle til Tou Scene.
LOCATION:Tou Scene
END:VEVENT


END:VCALENDAR



