
BEGIN:VCALENDAR
VERSION:2.0
PRODID:-//MarkedsPartner AS//Umbraco CMS//NO
TIMEZONE-ID:Europe/Oslo
X-WR-TIMEZONE:Europe/Oslo


BEGIN:VEVENT
UID:f24732729f4649299c8330b6ebbb75bb
URL:https://umbraco.naeringsforeningen.no/moeter/arkiv/boligkonferansen-2019/
ORGANIZER;CN=Ola Normann:MAILTO:ola.normann@markedspartner.no
DTSTAMP:20191031T070000Z
DTSTART:20191031T070000Z
DTEND:20191031T131500Z
LAST-MODIFIED:20221031T114141Z
SUMMARY:BOLIGKONFERANSEN 2019: Marked, miljø og urbane boliger
DESCRIPTION:Velkommen til årets største møteplass for bygg- og anleggsbransjen. Vi tar for oss markedssituasjonen nå, framtidens boliger, bærekraft og hvordan vi skal bygge urbant og attraktivt. Blant foredragsholderne er Stockholm-politikeren Ulla Hamilton, professor Karl Otto Ellefsen og Katharina Th. Bramslev fra Grønn Byggallianse. Leif Tore Lindø og Jan Zahl er konferansierer. Vi gleder oss til å se deg!
X-ALT-DESC:Velkommen til &#229;rets st&#248;rste m&#248;teplass for bygg- og anleggsbransjen. Vi tar for oss markedssituasjonen n&#229;, framtidens boliger, b&#230;rekraft og hvordan vi skal bygge urbant og attraktivt. Blant foredragsholderne er Stockholm-politikeren Ulla Hamilton, professor Karl Otto Ellefsen og Katharina Th. Bramslev fra Gr&#248;nn Byggallianse. Leif Tore Lind&#248; og Jan Zahl er konferansierer. Vi gleder oss til &#229; se deg!
LOCATION:Clarion Hotel Energy
END:VEVENT


END:VCALENDAR



