
BEGIN:VCALENDAR
VERSION:2.0
PRODID:-//MarkedsPartner AS//Umbraco CMS//NO
TIMEZONE-ID:Europe/Oslo
X-WR-TIMEZONE:Europe/Oslo


BEGIN:VEVENT
UID:c0515845366148f1b2f77b849a316170
URL:https://umbraco.naeringsforeningen.no/moeter/arkiv/boers-og-fakultet_250122/
ORGANIZER;CN=Ola Normann:MAILTO:ola.normann@markedspartner.no
DTSTAMP:20220125T100000Z
DTSTART:20220125T100000Z
DTEND:20220125T112000Z
LAST-MODIFIED:20221031T123006Z
SUMMARY:Kraft og strømpriser
DESCRIPTION:DIGITALKONFERANSE: Integrert kraftmarked og strømpriser er høyaktuelt tema for næringslivet og for privathusholdninger. Hva skjer, og hva kan vi forvente av priser framover? Hvilke fordelingsprinsipper ligger til grunn?
X-ALT-DESC:DIGITALKONFERANSE: Integrert kraftmarked og str&#248;mpriser er h&#248;yaktuelt tema for n&#230;ringslivet og for privathusholdninger. Hva skjer, og hva kan vi forvente av priser framover? Hvilke fordelingsprinsipper ligger til grunn?
LOCATION:webinar
END:VEVENT


END:VCALENDAR



