
BEGIN:VCALENDAR
VERSION:2.0
PRODID:-//MarkedsPartner AS//Umbraco CMS//NO
TIMEZONE-ID:Europe/Oslo
X-WR-TIMEZONE:Europe/Oslo


BEGIN:VEVENT
UID:5d95d15768ac49c38a5b0b78a027cc30
URL:https://umbraco.naeringsforeningen.no/moeter/arkiv/boers-og-fakultet_190220/
ORGANIZER;CN=Ola Normann:MAILTO:ola.normann@markedspartner.no
DTSTAMP:20200219T063000Z
DTSTART:20200219T063000Z
DTEND:20200219T081500Z
LAST-MODIFIED:20221031T115639Z
SUMMARY:Børs og fakultet: Kompetanse for omstilling
DESCRIPTION:Tro på egne og andres muligheter for å lære er avgjørende for å lykkes i et arbeidsliv med stadig omstilling.
X-ALT-DESC:Tro p&#229; egne og andres muligheter for &#229; l&#230;re er avgj&#248;rende for &#229; lykkes i et arbeidsliv med stadig omstilling.
LOCATION:Handelsh&#248;gskolen UIS
END:VEVENT


END:VCALENDAR



