
BEGIN:VCALENDAR
VERSION:2.0
PRODID:-//MarkedsPartner AS//Umbraco CMS//NO
TIMEZONE-ID:Europe/Oslo
X-WR-TIMEZONE:Europe/Oslo


BEGIN:VEVENT
UID:eec2f10bb53a4f218bcab7c682739ef8
URL:https://umbraco.naeringsforeningen.no/moeter/arkiv/boers-og-fakultet_161123/
ORGANIZER;CN=Ola Normann:MAILTO:ola.normann@markedspartner.no
DTSTAMP:20231116T070000Z
DTSTART:20231116T070000Z
DTEND:20231116T081500Z
LAST-MODIFIED:20231116T094221Z
SUMMARY:Navigating AI in Business Practises and Academia: Reflections and Realities
DESCRIPTION:As artificial intelligence increasingly finds its place in businesses, daily life, economics, and academic research, it's essential to understand its potential and pitfalls. AI presents tools that can amplify our daily tasks. Yet, the path is scattered with hurdles, whether mastering effective prompting or discerning the authenticity of AI-augmented insights and presentations.
X-ALT-DESC:As artificial intelligence increasingly finds its place in businesses, daily life, economics, and academic research, it&#39;s essential to understand its potential and pitfalls. AI presents tools that can amplify our daily tasks. Yet, the path is scattered with hurdles, whether mastering effective prompting or discerning the authenticity of AI-augmented insights and presentations.
LOCATION:Handelsh&#248;gskolen UIS, Elise Ottesen Jensen Hus, Kjell Arholms gate 37, 4021 Stavanger
END:VEVENT


END:VCALENDAR



