
BEGIN:VCALENDAR
VERSION:2.0
PRODID:-//MarkedsPartner AS//Umbraco CMS//NO
TIMEZONE-ID:Europe/Oslo
X-WR-TIMEZONE:Europe/Oslo


BEGIN:VEVENT
UID:7901be3b3a35443f87272803a4c5f9f3
URL:https://umbraco.naeringsforeningen.no/moeter/arkiv/boers-og-fakultet_090920/
ORGANIZER;CN=Ola Normann:MAILTO:ola.normann@markedspartner.no
DTSTAMP:20200909T054500Z
DTSTART:20200909T054500Z
DTEND:20200909T071500Z
LAST-MODIFIED:20221031T113829Z
SUMMARY:Børs og fakultet: Morgendagens ledelse i dag
DESCRIPTION:Etter 15 års erfaring ved britiske universiteter, 10 år som redaktør for Journal of Change Management, og flere års levering av faget Endringsledelse på UiS Executive MBA vil professor Rune Todnem By først utfordre ledelsesbegrepet og utfordringen med å utøve ledelse, for så å foreslå et alternativ. Dette vil så debatteres.
X-ALT-DESC:Etter 15 &#229;rs erfaring ved britiske universiteter, 10 &#229;r som redakt&#248;r for Journal of Change Management, og flere &#229;rs levering av faget Endringsledelse p&#229; UiS Executive MBA vil professor Rune Todnem By f&#248;rst utfordre ledelsesbegrepet og utfordringen med &#229; ut&#248;ve ledelse, for s&#229; &#229; foresl&#229; et alternativ. Dette vil s&#229; debatteres.
LOCATION:Handelsh&#248;gskolen UIS
END:VEVENT


END:VCALENDAR



