
BEGIN:VCALENDAR
VERSION:2.0
PRODID:-//MarkedsPartner AS//Umbraco CMS//NO
TIMEZONE-ID:Europe/Oslo
X-WR-TIMEZONE:Europe/Oslo


BEGIN:VEVENT
UID:94d30fb967884788a50e02a0d87fd1b2
URL:https://umbraco.naeringsforeningen.no/moeter/arkiv/boers-og-fakultet_060622/
ORGANIZER;CN=Ola Normann:MAILTO:ola.normann@markedspartner.no
DTSTAMP:20230606T060000Z
DTSTART:20230606T060000Z
DTEND:20230606T071500Z
LAST-MODIFIED:20230606T090509Z
SUMMARY:Debattmøte: The Weird, Irrational, and Wonderful Ways Humans Navigate the Workplace
DESCRIPTION:Handelshøgskolen ved UIS og Næringsforeningen inviterer til debattmøte med professor Matthias Sutter. Han er en av Europas ledende forskere på ledelse. Sutter har nylig gitt ut boka «Behavior Economics for Leaders – Research based insights on the weird, irrational and wonderful way humans navigate the workplace».
X-ALT-DESC:Handelsh&#248;gskolen ved UIS og N&#230;ringsforeningen inviterer til debattm&#248;te med professor Matthias Sutter. Han er en av Europas ledende forskere p&#229; ledelse. Sutter har nylig gitt ut boka &#171;Behavior Economics for Leaders – Research based insights on the weird, irrational and wonderful way humans navigate the workplace&#187;.
LOCATION:Handelsh&#248;gskolen UIS, Elise Ottesen Jensen Hus, Kjell Arholms gate 37, 4021 Stavanger
END:VEVENT


END:VCALENDAR



