
BEGIN:VCALENDAR
VERSION:2.0
PRODID:-//MarkedsPartner AS//Umbraco CMS//NO
TIMEZONE-ID:Europe/Oslo
X-WR-TIMEZONE:Europe/Oslo


BEGIN:VEVENT
UID:a4444fc78e57400f81028edef5df959e
URL:https://umbraco.naeringsforeningen.no/moeter/arkiv/boers-og-fakultet_050521/
ORGANIZER;CN=Ola Normann:MAILTO:ola.normann@markedspartner.no
DTSTAMP:20210505T060000Z
DTSTART:20210505T060000Z
DTEND:20210505T071500Z
LAST-MODIFIED:20221031T121450Z
SUMMARY:Børs og fakultet: Utenforskapet
DESCRIPTION:DIGITAL KONFERANSE: I dette bidraget til Børs & fakultet vil professor Mari Rege fokusere på utenforskapet som pandemien kan føre til, og tiltak som hjelper.
X-ALT-DESC:DIGITAL KONFERANSE: I dette bidraget til B&#248;rs &amp; fakultet vil professor Mari Rege fokusere p&#229; utenforskapet som pandemien kan f&#248;re til, og tiltak som hjelper.
LOCATION:webinar i Teams
END:VEVENT


END:VCALENDAR



