
BEGIN:VCALENDAR
VERSION:2.0
PRODID:-//MarkedsPartner AS//Umbraco CMS//NO
TIMEZONE-ID:Europe/Oslo
X-WR-TIMEZONE:Europe/Oslo


BEGIN:VEVENT
UID:5a92153a2a684b6ea55cf3170b3cc8e7
URL:https://umbraco.naeringsforeningen.no/moeter/arkiv/boers-og-fakultet_010420/
ORGANIZER;CN=Ola Normann:MAILTO:ola.normann@markedspartner.no
DTSTAMP:20200401T054500Z
DTSTART:20200401T054500Z
DTEND:20200401T081500Z
LAST-MODIFIED:20221031T120423Z
SUMMARY:Børs og fakultet
DESCRIPTION:UTSATT. NY DATO KOMMER. Dagens tilnærming til ledelse er utdatert og en barriere for å levere på FNs bærekraftsmål, hevder professor Rune Todnem By, Handelshøgskolen ved Universitetet i Stavanger.
X-ALT-DESC:UTSATT. NY DATO KOMMER. Dagens tiln&#230;rming til ledelse er utdatert og en barriere for &#229; levere p&#229; FNs b&#230;rekraftsm&#229;l, hevder professor Rune Todnem By, Handelsh&#248;gskolen ved Universitetet i Stavanger.
LOCATION:Handelsh&#248;gskolen UIS
END:VEVENT


END:VCALENDAR



