
BEGIN:VCALENDAR
VERSION:2.0
PRODID:-//MarkedsPartner AS//Umbraco CMS//NO
TIMEZONE-ID:Europe/Oslo
X-WR-TIMEZONE:Europe/Oslo


BEGIN:VEVENT
UID:cdee205286144d8d94fdf1e5a6cf3424
URL:https://umbraco.naeringsforeningen.no/moeter/arkiv/boers-og-fakultet-2/
ORGANIZER;CN=Ola Normann:MAILTO:ola.normann@markedspartner.no
DTSTAMP:20201203T064500Z
DTSTART:20201203T064500Z
DTEND:20201203T081500Z
LAST-MODIFIED:20221031T115549Z
SUMMARY:Børs og fakultet
DESCRIPTION:Mer info kommer!
X-ALT-DESC:Mer info kommer!
LOCATION:Handelsh&#248;gskolen UIS
END:VEVENT


END:VCALENDAR



