
BEGIN:VCALENDAR
VERSION:2.0
PRODID:-//MarkedsPartner AS//Umbraco CMS//NO
TIMEZONE-ID:Europe/Oslo
X-WR-TIMEZONE:Europe/Oslo


BEGIN:VEVENT
UID:4b9b644dd8cb41539fbba58d48c4a6ac
URL:https://umbraco.naeringsforeningen.no/moeter/arkiv/boers-og-fakultet-1/
ORGANIZER;CN=Ola Normann:MAILTO:ola.normann@markedspartner.no
DTSTAMP:20191204T064500Z
DTSTART:20191204T064500Z
DTEND:20191204T083000Z
LAST-MODIFIED:20221031T114434Z
SUMMARY:Børs og fakultet
DESCRIPTION:Hvem skal betale skatten som finansierer velferdsstaten i fremtiden?
X-ALT-DESC:Hvem skal betale skatten som finansierer velferdsstaten i fremtiden?
LOCATION:Handelsh&#248;gskolen, UIS
END:VEVENT


END:VCALENDAR



