
BEGIN:VCALENDAR
VERSION:2.0
PRODID:-//MarkedsPartner AS//Umbraco CMS//NO
TIMEZONE-ID:Europe/Oslo
X-WR-TIMEZONE:Europe/Oslo


BEGIN:VEVENT
UID:e289557ff6414449a7762291fb056a13
URL:https://umbraco.naeringsforeningen.no/moeter/arkiv/bilboersen-2025/
ORGANIZER;CN=Ola Normann:MAILTO:ola.normann@markedspartner.no
DTSTAMP:20250425T073000Z
DTSTART:20250425T073000Z
DTEND:20250425T100000Z
LAST-MODIFIED:20250425T133825Z
SUMMARY:Bilbørsen 2025: Hvilke krav stilles til biler i offentlige innkjøp?
DESCRIPTION:I forbindelse med Autopia 2025 inviterer vi til Bilbørsen! Hvilke krav stiller kommunene i sine anskaffelser? Og hva planlegges av innkjøp? Hva er trendene og hvordan innrette seg på best mulig måte? På Bilbørsen får du høre hva offentlige og private aktører planlegger av innkjøp når det gjelder varebiler, tjenestebiler og lastebiler.
X-ALT-DESC:I forbindelse med Autopia 2025 inviterer vi til Bilb&#248;rsen! Hvilke krav stiller kommunene i sine anskaffelser? Og hva planlegges av innkj&#248;p? Hva er trendene og hvordan innrette seg p&#229; best mulig m&#229;te? P&#229; Bilb&#248;rsen f&#229;r du h&#248;re hva offentlige og private akt&#248;rer planlegger av innkj&#248;p n&#229;r det gjelder varebiler, tjenestebiler og lastebiler.
LOCATION:Forum Expo
END:VEVENT


END:VCALENDAR



