
BEGIN:VCALENDAR
VERSION:2.0
PRODID:-//MarkedsPartner AS//Umbraco CMS//NO
TIMEZONE-ID:Europe/Oslo
X-WR-TIMEZONE:Europe/Oslo


BEGIN:VEVENT
UID:f05f8b7e4f344027ba40cdd9bcacfe07
URL:https://umbraco.naeringsforeningen.no/moeter/arkiv/bedriftsbesoek_randaberg_231122/
ORGANIZER;CN=Ola Normann:MAILTO:ola.normann@markedspartner.no
DTSTAMP:20221123T070000Z
DTSTART:20221123T070000Z
DTEND:20221123T090000Z
LAST-MODIFIED:20221128T075041Z
SUMMARY:Bedriftsbesøk hos Sterling White Halibut 
DESCRIPTION:Fra de dype fjordene i Ryfylket til Bocuse d’Or. Kom og lær av den ledende globale tilbyderen av oppdrettet kveite. Vi får en guidet omvisning og presentasjon av bedriften på deres helt nye kveiteslakteri Randaberg.
X-ALT-DESC:Fra de dype fjordene i Ryfylket til Bocuse d’Or. Kom og l&#230;r av den ledende globale tilbyderen av oppdrettet kveite. Vi f&#229;r en guidet omvisning og presentasjon av bedriften p&#229; deres helt nye kveiteslakteri Randaberg.
LOCATION:Mekjarvik 20, 4070 Randaberg
END:VEVENT


END:VCALENDAR



