
BEGIN:VCALENDAR
VERSION:2.0
PRODID:-//MarkedsPartner AS//Umbraco CMS//NO
TIMEZONE-ID:Europe/Oslo
X-WR-TIMEZONE:Europe/Oslo


BEGIN:VEVENT
UID:1780c4774dc148f792ded5974aceb838
URL:https://umbraco.naeringsforeningen.no/moeter/arkiv/bedriftsbesoek-til-randaberg-group/
ORGANIZER;CN=Ola Normann:MAILTO:ola.normann@markedspartner.no
DTSTAMP:20200422T060000Z
DTSTART:20200422T060000Z
DTEND:20200422T080000Z
LAST-MODIFIED:20221031T120649Z
SUMMARY:Bedriftsbesøk til Randaberg Group
DESCRIPTION:
X-ALT-DESC:
LOCATION:Harestadveien 77, 4072 Randaberg
END:VEVENT


END:VCALENDAR



