
BEGIN:VCALENDAR
VERSION:2.0
PRODID:-//MarkedsPartner AS//Umbraco CMS//NO
TIMEZONE-ID:Europe/Oslo
X-WR-TIMEZONE:Europe/Oslo


BEGIN:VEVENT
UID:07e10b2c347f4832b9dddc82eba38ba0
URL:https://umbraco.naeringsforeningen.no/moeter/arkiv/bedriftsbesoek-randaberg_220524/
ORGANIZER;CN=Ola Normann:MAILTO:ola.normann@markedspartner.no
DTSTAMP:20240522T060000Z
DTSTART:20240522T060000Z
DTEND:20240522T080000Z
LAST-MODIFIED:20240523T211902Z
SUMMARY:TREFFPUNKT RANDABERG: Bedriftsbesøk hos NorSea
DESCRIPTION:Med 55 års erfaring som leverandør av base- og logistikktjenester til en rekke industrier er det mye å lære når vi inviterer til bedriftsbesøk hos NorSea. Vi får omvisning av området og presentasjon av bedriften på deres anlegg i Dusavika.
X-ALT-DESC:Med 55 &#229;rs erfaring som leverand&#248;r av base- og logistikktjenester til en rekke industrier er det mye &#229; l&#230;re n&#229;r vi inviterer til bedriftsbes&#248;k hos NorSea. Vi f&#229;r omvisning av omr&#229;det og presentasjon av bedriften p&#229; deres anlegg i Dusavika.
LOCATION:Technology Solution Center, Stavanger
END:VEVENT


END:VCALENDAR



