
BEGIN:VCALENDAR
VERSION:2.0
PRODID:-//MarkedsPartner AS//Umbraco CMS//NO
TIMEZONE-ID:Europe/Oslo
X-WR-TIMEZONE:Europe/Oslo


BEGIN:VEVENT
UID:3af0bad2b5124323a997becfb8ff1ca5
URL:https://umbraco.naeringsforeningen.no/moeter/arkiv/bedriftsbesoek-randaberg_080525/
ORGANIZER;CN=Ola Normann:MAILTO:ola.normann@markedspartner.no
DTSTAMP:20250508T060000Z
DTSTART:20250508T060000Z
DTEND:20250508T080000Z
LAST-MODIFIED:20250509T065958Z
SUMMARY:Treffpunkt Randaberg: Besøk til Statens vegvesen
DESCRIPTION:Vi inviterer til et unikt innblikk i det aller siste om Rogfast og Smiene-Harestad.
X-ALT-DESC:Vi inviterer til et unikt innblikk i det aller siste om Rogfast og Smiene-Harestad.
LOCATION:Statens vegvesen, Mekjarvik
END:VEVENT


END:VCALENDAR



