
BEGIN:VCALENDAR
VERSION:2.0
PRODID:-//MarkedsPartner AS//Umbraco CMS//NO
TIMEZONE-ID:Europe/Oslo
X-WR-TIMEZONE:Europe/Oslo


BEGIN:VEVENT
UID:36a31f84a72547aa88c1240aa4315218
URL:https://umbraco.naeringsforeningen.no/moeter/arkiv/bedriftsbesoek-gjesdal/
ORGANIZER;CN=Ola Normann:MAILTO:ola.normann@markedspartner.no
DTSTAMP:20240911T060000Z
DTSTART:20240911T060000Z
DTEND:20240911T080000Z
LAST-MODIFIED:20240912T095805Z
SUMMARY:Bedriftsbesøk hos Ålgård Teknologipark
DESCRIPTION:Visste du at Norges eneste rulleskimølle blir laget på Ålgård? At de har en fullskala borerigg tilgjengelig for testing? Eller at de utvikler pasientheis for ambulansefly? Bli med oss på bedriftsbesøk hos Ålgård Teknologipark for å bli bedre kjent med næringslivet i Gjesdal!
X-ALT-DESC:Visste du at Norges eneste rulleskim&#248;lle blir laget p&#229; &#197;lg&#229;rd? At de har en fullskala borerigg tilgjengelig for testing? Eller at de utvikler pasientheis for ambulansefly? Bli med oss p&#229; bedriftsbes&#248;k hos &#197;lg&#229;rd Teknologipark for &#229; bli bedre kjent med n&#230;ringslivet i Gjesdal!
LOCATION:&#197;lg&#229;rd Teknologipark
END:VEVENT


END:VCALENDAR



