
BEGIN:VCALENDAR
VERSION:2.0
PRODID:-//MarkedsPartner AS//Umbraco CMS//NO
TIMEZONE-ID:Europe/Oslo
X-WR-TIMEZONE:Europe/Oslo


BEGIN:VEVENT
UID:d89566a2060046b7bb7c0baec7fc03bb
URL:https://umbraco.naeringsforeningen.no/moeter/arkiv/batteri-teknologi_250221/
ORGANIZER;CN=Ola Normann:MAILTO:ola.normann@markedspartner.no
DTSTAMP:20210225T110000Z
DTSTART:20210225T110000Z
DTEND:20210225T123000Z
LAST-MODIFIED:20221031T120658Z
SUMMARY:En batterinæring i vekst!
DESCRIPTION:DIGITALKONFERANSE: Kan Rogaland bli en ledende batteriregion?
X-ALT-DESC:DIGITALKONFERANSE: Kan Rogaland bli en ledende batteriregion?
LOCATION:webinar
END:VEVENT


END:VCALENDAR



