
BEGIN:VCALENDAR
VERSION:2.0
PRODID:-//MarkedsPartner AS//Umbraco CMS//NO
TIMEZONE-ID:Europe/Oslo
X-WR-TIMEZONE:Europe/Oslo


BEGIN:VEVENT
UID:79d92063a0bb4ee78f4fba7b8c0ac42e
URL:https://umbraco.naeringsforeningen.no/moeter/arkiv/balanserte-anskaffelser-seminar/
ORGANIZER;CN=Ola Normann:MAILTO:ola.normann@markedspartner.no
DTSTAMP:20200212T080000Z
DTSTART:20200212T080000Z
DTEND:20200213T140000Z
LAST-MODIFIED:20221031T120005Z
SUMMARY:TODAGERSSEMINAR: Bedre dialog, bedre anskaffelser
DESCRIPTION:Hvordan kan oppdragsgivere og leverandører forbedre dialogen i forbindelse med offentlige anskaffelser? Bli med når Næringsforeningen og Digitaliseringsdirektoratet inviterer til et todagers intensivt seminar og øvingsarena for balanserte anskaffelser gjennom dialog (BAD).
X-ALT-DESC:Hvordan kan oppdragsgivere og leverand&#248;rer forbedre dialogen i forbindelse med offentlige anskaffelser? Bli med n&#229;r N&#230;ringsforeningen og Digitaliseringsdirektoratet inviterer til et todagers intensivt seminar og &#248;vingsarena for balanserte anskaffelser gjennom dialog (BAD).
LOCATION:Rosenkildehuset
END:VEVENT


END:VCALENDAR



