
BEGIN:VCALENDAR
VERSION:2.0
PRODID:-//MarkedsPartner AS//Umbraco CMS//NO
TIMEZONE-ID:Europe/Oslo
X-WR-TIMEZONE:Europe/Oslo


BEGIN:VEVENT
UID:b44c6235cbad406a85319fac83983d8f
URL:https://umbraco.naeringsforeningen.no/moeter/arkiv/baerekraftseminar_241121/
ORGANIZER;CN=Ola Normann:MAILTO:ola.normann@markedspartner.no
DTSTAMP:20211124T070000Z
DTSTART:20211124T070000Z
DTEND:20211124T090000Z
LAST-MODIFIED:20221031T123058Z
SUMMARY:Bærekraftig utvikling av egen bedrift - Dalane
DESCRIPTION:I samarbeid med BDO inviterer vi til seminar for bedrifter som ønsker å få økt kunnskap om bærekraftig utvikling.
X-ALT-DESC:I samarbeid med BDO inviterer vi til seminar for bedrifter som &#248;nsker &#229; f&#229; &#248;kt kunnskap om b&#230;rekraftig utvikling.
LOCATION:Grand Hotell Egersund
END:VEVENT


END:VCALENDAR



