
BEGIN:VCALENDAR
VERSION:2.0
PRODID:-//MarkedsPartner AS//Umbraco CMS//NO
TIMEZONE-ID:Europe/Oslo
X-WR-TIMEZONE:Europe/Oslo


BEGIN:VEVENT
UID:ec56e7224acd4674aca3b016b728b8f2
URL:https://umbraco.naeringsforeningen.no/moeter/arkiv/b2bnyemedlemmer170424/
ORGANIZER;CN=Ola Normann:MAILTO:ola.normann@markedspartner.no
DTSTAMP:20240417T063000Z
DTSTART:20240417T063000Z
DTEND:20240417T083000Z
LAST-MODIFIED:20240418T063442Z
SUMMARY:Nettverksfrokost for nye medlemmer
DESCRIPTION:Vi inviterer nye medlemmer til en B2B frokost! Bli bedre kjent med oss i Næringsforeningen, mulighetene som ligger i medlemskapet, og ikke minst bli kjent med andre spennende selskap.
X-ALT-DESC:Vi inviterer nye medlemmer til en B2B frokost! Bli bedre kjent med oss i N&#230;ringsforeningen, mulighetene som ligger i medlemskapet, og ikke minst bli kjent med andre spennende selskap.
LOCATION:Clarion Hotel Stavanger
END:VEVENT


END:VCALENDAR



