
BEGIN:VCALENDAR
VERSION:2.0
PRODID:-//MarkedsPartner AS//Umbraco CMS//NO
TIMEZONE-ID:Europe/Oslo
X-WR-TIMEZONE:Europe/Oslo


BEGIN:VEVENT
UID:6df2a97e22ab4d549b84374d5f78f343
URL:https://umbraco.naeringsforeningen.no/moeter/arkiv/b2bnyemedlemmer041124/
ORGANIZER;CN=Ola Normann:MAILTO:ola.normann@markedspartner.no
DTSTAMP:20241104T073500Z
DTSTART:20241104T073500Z
DTEND:20241104T093500Z
LAST-MODIFIED:20241105T094701Z
SUMMARY:Nettverksfrokost for nye medlemmer
DESCRIPTION:Vi inviterer nye medlemmer til en B2B frokost! Bli bedre kjent med oss i Næringsforeningen, mulighetene som ligger i medlemskapet, og ikke minst bli kjent med andre spennende selskap.
X-ALT-DESC:Vi inviterer nye medlemmer til en B2B frokost! Bli bedre kjent med oss i N&#230;ringsforeningen, mulighetene som ligger i medlemskapet, og ikke minst bli kjent med andre spennende selskap.
LOCATION:Clarion Hotel Stavanger
END:VEVENT


END:VCALENDAR



