
BEGIN:VCALENDAR
VERSION:2.0
PRODID:-//MarkedsPartner AS//Umbraco CMS//NO
TIMEZONE-ID:Europe/Oslo
X-WR-TIMEZONE:Europe/Oslo


BEGIN:VEVENT
UID:dbc420cfd3b2401a9f7ed0794916bf4e
URL:https://umbraco.naeringsforeningen.no/moeter/arkiv/b2b_speeddating/
ORGANIZER;CN=Ola Normann:MAILTO:ola.normann@markedspartner.no
DTSTAMP:20240507T074500Z
DTSTART:20240507T074500Z
DTEND:20240507T100000Z
LAST-MODIFIED:20240510T090826Z
SUMMARY:B2B Speed Dating
DESCRIPTION:Vi inviterer til speed dating mellom bedrifter. Her får du i løpet av en time god anledning til å møte mange spennende mennesker som kan være relevante for deg og din bedrift.
X-ALT-DESC:Vi inviterer til speed dating mellom bedrifter. Her f&#229;r du i l&#248;pet av en time god anledning til &#229; m&#248;te mange spennende mennesker som kan v&#230;re relevante for deg og din bedrift.
LOCATION:Rosenkildehuset
END:VEVENT


END:VCALENDAR



