
BEGIN:VCALENDAR
VERSION:2.0
PRODID:-//MarkedsPartner AS//Umbraco CMS//NO
TIMEZONE-ID:Europe/Oslo
X-WR-TIMEZONE:Europe/Oslo


BEGIN:VEVENT
UID:0217d4c19f8b419589ade23c5b4eeb0d
URL:https://umbraco.naeringsforeningen.no/moeter/arkiv/b2b-speeddating/
ORGANIZER;CN=Ola Normann:MAILTO:ola.normann@markedspartner.no
DTSTAMP:20250523T080000Z
DTSTART:20250523T080000Z
DTEND:20250523T110000Z
LAST-MODIFIED:20250526T105104Z
SUMMARY:B2B Speed dating
DESCRIPTION:Vi inviterer til speed dating mellom bedrifter. Her får du god anledning til å møte mange spennende mennesker som kan være relevante for deg og din bedrift.
X-ALT-DESC:Vi inviterer til speed dating mellom bedrifter. Her f&#229;r du god anledning til &#229; m&#248;te mange spennende mennesker som kan v&#230;re relevante for deg og din bedrift.
LOCATION:Clarion Hotel Stavanger
END:VEVENT


END:VCALENDAR



