
BEGIN:VCALENDAR
VERSION:2.0
PRODID:-//MarkedsPartner AS//Umbraco CMS//NO
TIMEZONE-ID:Europe/Oslo
X-WR-TIMEZONE:Europe/Oslo


BEGIN:VEVENT
UID:c27f7728bd6a4ee2a1c40704c8a0110a
URL:https://umbraco.naeringsforeningen.no/moeter/arkiv/b2b-nettverksfrokost_mars/
ORGANIZER;CN=Ola Normann:MAILTO:ola.normann@markedspartner.no
DTSTAMP:20250314T073000Z
DTSTART:20250314T073000Z
DTEND:20250314T093000Z
LAST-MODIFIED:20250318T115122Z
SUMMARY:B2B Nettverksfrokost for nye medlemmer
DESCRIPTION:Vi inviterer nye medlemmer til B2B frokost! Bli bedre kjent med oss i Næringsforeningen, mulighetene som ligger i medlemskapet, og ikke minst bli kjent med andre spennende selskap.
X-ALT-DESC:Vi inviterer nye medlemmer til B2B frokost! Bli bedre kjent med oss i N&#230;ringsforeningen, mulighetene som ligger i medlemskapet, og ikke minst bli kjent med andre spennende selskap.
LOCATION:Clarion Hotel Stavanger
END:VEVENT


END:VCALENDAR



