
BEGIN:VCALENDAR
VERSION:2.0
PRODID:-//MarkedsPartner AS//Umbraco CMS//NO
TIMEZONE-ID:Europe/Oslo
X-WR-TIMEZONE:Europe/Oslo


BEGIN:VEVENT
UID:b9b93c6e371146f796ccdccd6ddb076b
URL:https://umbraco.naeringsforeningen.no/moeter/arkiv/ata-carnet/
ORGANIZER;CN=Ola Normann:MAILTO:ola.normann@markedspartner.no
DTSTAMP:20211202T120000Z
DTSTART:20211202T120000Z
DTEND:20211202T130000Z
LAST-MODIFIED:20221031T123233Z
SUMMARY:Webinar: Kurs i ATA-carnet og midlertidig import
DESCRIPTION:Vi utsteder et internasjonalt tolldokument som forenkler tollekspedisjonen ved midlertidig import. Skal du på messe, teste utstyr, konkurrere i utlandet - eller kanskje ha med deg yrkesutstyr til utlandet på grunn av en jobb? Da vil du ha nytte av å lære mer om ATA-carnet.

Meld deg på og lær mer om ATA-carnet og hvordan du bruker dokumentet.
X-ALT-DESC:Vi utsteder et internasjonalt tolldokument som forenkler tollekspedisjonen ved midlertidig import. Skal du p&#229; messe, teste utstyr, konkurrere i utlandet - eller kanskje ha med deg yrkesutstyr til utlandet p&#229; grunn av en jobb? Da vil du ha nytte av &#229; l&#230;re mer om ATA-carnet.

Meld deg p&#229; og l&#230;r mer om ATA-carnet og hvordan du bruker dokumentet.
LOCATION:Online
END:VEVENT


END:VCALENDAR



