
BEGIN:VCALENDAR
VERSION:2.0
PRODID:-//MarkedsPartner AS//Umbraco CMS//NO
TIMEZONE-ID:Europe/Oslo
X-WR-TIMEZONE:Europe/Oslo


BEGIN:VEVENT
UID:1eb5a3fede88453f897e0a21234c344a
URL:https://umbraco.naeringsforeningen.no/moeter/arkiv/arne-brimi_011121/
ORGANIZER;CN=Ola Normann:MAILTO:ola.normann@markedspartner.no
DTSTAMP:20211101T170000Z
DTSTART:20211101T170000Z
DTEND:20211101T210000Z
LAST-MODIFIED:20221031T122834Z
SUMMARY:Festmiddag for næringslivet med Arne Brimi
DESCRIPTION:Me inviterer næringslivet til smaksfest på Utstein Kloster Hotell saman med Arne Brimi og Ryfylkekokken. Han vil by på dei beste råvarene frå Ryfylke og vil fortelle varmt og humoristisk om matglede.
X-ALT-DESC:Me inviterer n&#230;ringslivet til smaksfest p&#229; Utstein Kloster Hotell saman med Arne Brimi og Ryfylkekokken. Han vil by p&#229; dei beste r&#229;varene fr&#229; Ryfylke og vil fortelle varmt og humoristisk om matglede.
LOCATION:Utstein Kloster Hotell
END:VEVENT


END:VCALENDAR



