
BEGIN:VCALENDAR
VERSION:2.0
PRODID:-//MarkedsPartner AS//Umbraco CMS//NO
TIMEZONE-ID:Europe/Oslo
X-WR-TIMEZONE:Europe/Oslo


BEGIN:VEVENT
UID:d38c84ad3c1e400ca2edb88620cf42bd
URL:https://umbraco.naeringsforeningen.no/moeter/arkiv/arendalsuka_dag3/
ORGANIZER;CN=Ola Normann:MAILTO:ola.normann@markedspartner.no
DTSTAMP:20220817T060000Z
DTSTART:20220817T060000Z
DTEND:20220817T210000Z
LAST-MODIFIED:20221031T121722Z
SUMMARY:Arendalsuka Dag 3
DESCRIPTION:På Rygerelektra kan du starte dagen med gode diskusjoner rundt Oljeskattepakkens ettervirkninger. Videre kan du tilbringe tiden til å få med deg den framtidige innovative teknologien regionen har å by på.
X-ALT-DESC:P&#229; Rygerelektra kan du starte dagen med gode diskusjoner rundt Oljeskattepakkens ettervirkninger. Videre kan du tilbringe tiden til &#229; f&#229; med deg den framtidige innovative teknologien regionen har &#229; by p&#229;.
LOCATION:Rygerelektra, Pollen Arendal
END:VEVENT


END:VCALENDAR



