
BEGIN:VCALENDAR
VERSION:2.0
PRODID:-//MarkedsPartner AS//Umbraco CMS//NO
TIMEZONE-ID:Europe/Oslo
X-WR-TIMEZONE:Europe/Oslo


BEGIN:VEVENT
UID:0b091eb4d4c242ba82571197545e2ea4
URL:https://umbraco.naeringsforeningen.no/moeter/arkiv/arendalsuka_dag2/
ORGANIZER;CN=Ola Normann:MAILTO:ola.normann@markedspartner.no
DTSTAMP:20220816T060000Z
DTSTART:20220816T060000Z
DTEND:20220816T210000Z
LAST-MODIFIED:20221031T121725Z
SUMMARY:Arendalsuka Dag 2
DESCRIPTION:Andre dag i Arendalsuka byr vi på spennende foredrag om havvind fra Energihovedstaden etterfulgt av en stemningsfull Vestlands aften.
X-ALT-DESC:Andre dag i Arendalsuka byr vi p&#229; spennende foredrag om havvind fra Energihovedstaden etterfulgt av en stemningsfull Vestlands aften.
LOCATION:Rygerelektra, Pollen, Arendal
END:VEVENT


END:VCALENDAR



