
BEGIN:VCALENDAR
VERSION:2.0
PRODID:-//MarkedsPartner AS//Umbraco CMS//NO
TIMEZONE-ID:Europe/Oslo
X-WR-TIMEZONE:Europe/Oslo


BEGIN:VEVENT
UID:cce00bed94d341c9801a6c3b785db032
URL:https://umbraco.naeringsforeningen.no/moeter/arkiv/arendalsuka_dag1_140823/
ORGANIZER;CN=Ola Normann:MAILTO:ola.normann@markedspartner.no
DTSTAMP:20230814T060000Z
DTSTART:20230814T060000Z
DTEND:20230814T210000Z
LAST-MODIFIED:20230821T071715Z
SUMMARY:Arendalsuka Dag 1
DESCRIPTION:Vi starter første dag i Arendalsuka med å sette energi på agendaen. Kan Norge være en energisupermakt i Europa?
X-ALT-DESC:Vi starter f&#248;rste dag i Arendalsuka med &#229; sette energi p&#229; agendaen. Kan Norge v&#230;re en energisupermakt i Europa?
LOCATION:Rygerelektra, Pollen Arendal
END:VEVENT


END:VCALENDAR



