
BEGIN:VCALENDAR
VERSION:2.0
PRODID:-//MarkedsPartner AS//Umbraco CMS//NO
TIMEZONE-ID:Europe/Oslo
X-WR-TIMEZONE:Europe/Oslo


BEGIN:VEVENT
UID:97944f7dcd9f49e79936629d56a35a1e
URL:https://umbraco.naeringsforeningen.no/moeter/arkiv/arendalsuka_dag1/
ORGANIZER;CN=Ola Normann:MAILTO:ola.normann@markedspartner.no
DTSTAMP:20220815T060000Z
DTSTART:20220815T060000Z
DTEND:20220815T210000Z
LAST-MODIFIED:20221031T121717Z
SUMMARY:Arendalsuka Dag 1
DESCRIPTION:Vi starter første dag i Arendalsuka med et Kick-off og avslutter på kvelden med energipolitikk på ordførerens energikveld.
X-ALT-DESC:Vi starter f&#248;rste dag i Arendalsuka med et Kick-off og avslutter p&#229; kvelden med energipolitikk p&#229; ordf&#248;rerens energikveld.
LOCATION:Rygerelektra, Pollen Arendal
END:VEVENT


END:VCALENDAR



