
BEGIN:VCALENDAR
VERSION:2.0
PRODID:-//MarkedsPartner AS//Umbraco CMS//NO
TIMEZONE-ID:Europe/Oslo
X-WR-TIMEZONE:Europe/Oslo


BEGIN:VEVENT
UID:5f4aca28d86546b0a34b51086f6e5834
URL:https://umbraco.naeringsforeningen.no/moeter/arkiv/arendalsuka2021_170821/
ORGANIZER;CN=Ola Normann:MAILTO:ola.normann@markedspartner.no
DTSTAMP:20210817T070000Z
DTSTART:20210817T070000Z
DTEND:20210817T084500Z
LAST-MODIFIED:20221031T122121Z
SUMMARY:Arendalsuka: Elflykappløpet
DESCRIPTION:Kappløpet er i gang! Ambisjonen er å etablere verdens første kommersielle elflyrute mellom Stavanger og Bergen i 2026, men er teknologien og infrastrukturen klar?
X-ALT-DESC:Kappl&#248;pet er i gang! Ambisjonen er &#229; etablere verdens f&#248;rste kommersielle elflyrute mellom Stavanger og Bergen i 2026, men er teknologien og infrastrukturen klar?
LOCATION:Arendal Gamle R&#229;dhus, R&#229;dhusgaten 10, 4836 Arendal
END:VEVENT


END:VCALENDAR



