
BEGIN:VCALENDAR
VERSION:2.0
PRODID:-//MarkedsPartner AS//Umbraco CMS//NO
TIMEZONE-ID:Europe/Oslo
X-WR-TIMEZONE:Europe/Oslo


BEGIN:VEVENT
UID:4018fa33a97a4a41b33b32aba4478740
URL:https://umbraco.naeringsforeningen.no/moeter/arkiv/arendalsuka-workshop-2025/
ORGANIZER;CN=Ola Normann:MAILTO:ola.normann@markedspartner.no
DTSTAMP:20250221T073000Z
DTSTART:20250221T073000Z
DTEND:20250221T090000Z
LAST-MODIFIED:20250223T153651Z
SUMMARY:Arendalsuka 2025: Vil din bedrift delta?
DESCRIPTION:For fjerde år på rad vil regionen delta med Rygerelektra i Arendal. Plass til  30 arrangement fra mandag morgen til torsdag kveld. Det er valgår og   forventet høye besøkstall.
X-ALT-DESC:For fjerde &#229;r p&#229; rad vil regionen delta med Rygerelektra i Arendal. Plass til  30 arrangement fra mandag morgen til torsdag kveld. Det er valg&#229;r og   forventet h&#248;ye bes&#248;kstall.
LOCATION:Rosenkildehuset
END:VEVENT


END:VCALENDAR



