
BEGIN:VCALENDAR
VERSION:2.0
PRODID:-//MarkedsPartner AS//Umbraco CMS//NO
TIMEZONE-ID:Europe/Oslo
X-WR-TIMEZONE:Europe/Oslo


BEGIN:VEVENT
UID:77021234ec834b48900bbe6a7821898a
URL:https://umbraco.naeringsforeningen.no/moeter/arkiv/arendalsuka-dag4_170823/
ORGANIZER;CN=Ola Normann:MAILTO:ola.normann@markedspartner.no
DTSTAMP:20230817T060000Z
DTSTART:20230817T060000Z
DTEND:20230817T100000Z
LAST-MODIFIED:20230821T071835Z
SUMMARY:Arendalsuka Dag 4
DESCRIPTION:Næringsforeningene samles for å fremheve og diskutere behovet for en nasjonal strategi for å tiltrekke oss arbeidsfolk til Norge. UiS setter Risavika som en nasjonal HUB for hydrogen på agendaen.
X-ALT-DESC:N&#230;ringsforeningene samles for &#229; fremheve og diskutere behovet for en nasjonal strategi for &#229; tiltrekke oss arbeidsfolk til Norge. UiS setter Risavika som en nasjonal HUB for hydrogen p&#229; agendaen.
LOCATION:Rygerelektra, Pollen Arendal
END:VEVENT


END:VCALENDAR



