
BEGIN:VCALENDAR
VERSION:2.0
PRODID:-//MarkedsPartner AS//Umbraco CMS//NO
TIMEZONE-ID:Europe/Oslo
X-WR-TIMEZONE:Europe/Oslo


BEGIN:VEVENT
UID:882a0f926975478c9e0a5a88ac42083d
URL:https://umbraco.naeringsforeningen.no/moeter/arkiv/arendalsuka-dag2_150823/
ORGANIZER;CN=Ola Normann:MAILTO:ola.normann@markedspartner.no
DTSTAMP:20230815T060000Z
DTSTART:20230815T060000Z
DTEND:20230815T210000Z
LAST-MODIFIED:20230821T071744Z
SUMMARY:Arendalsuka Dag 2
DESCRIPTION:Andre dag i Arendalsuka har vi med oss New Kaupang, UiS, Energihovedstaden, Stiim, Nysnø, Lyse og Agenda vestlandet.
X-ALT-DESC:Andre dag i Arendalsuka har vi med oss New Kaupang, UiS, Energihovedstaden, Stiim, Nysn&#248;, Lyse og Agenda vestlandet.
LOCATION:Rygerelektra, Pollen, Arendal
END:VEVENT


END:VCALENDAR



