
BEGIN:VCALENDAR
VERSION:2.0
PRODID:-//MarkedsPartner AS//Umbraco CMS//NO
TIMEZONE-ID:Europe/Oslo
X-WR-TIMEZONE:Europe/Oslo


BEGIN:VEVENT
UID:d13a3c8638684713959b38f54b243fd7
URL:https://umbraco.naeringsforeningen.no/moeter/arkiv/arendalsuka-dag-4_150824/
ORGANIZER;CN=Ola Normann:MAILTO:ola.normann@markedspartner.no
DTSTAMP:20240815T070000Z
DTSTART:20240815T070000Z
DTEND:20240815T210000Z
LAST-MODIFIED:20240819T080100Z
SUMMARY:Arendalsuka Dag 4
DESCRIPTION:Her finner du oversikten over programmet på Rygerelektra under fjerde dag på Arendalsuka.
X-ALT-DESC:Her finner du oversikten over programmet p&#229; Rygerelektra under fjerde dag p&#229; Arendalsuka.
LOCATION:Rygerelektra, Pollen Arendal
END:VEVENT


END:VCALENDAR



