
BEGIN:VCALENDAR
VERSION:2.0
PRODID:-//MarkedsPartner AS//Umbraco CMS//NO
TIMEZONE-ID:Europe/Oslo
X-WR-TIMEZONE:Europe/Oslo


BEGIN:VEVENT
UID:ee136800f73949f2b932dc5e90403cef
URL:https://umbraco.naeringsforeningen.no/moeter/arkiv/arendalsuka-dag-4_140825/
ORGANIZER;CN=Ola Normann:MAILTO:ola.normann@markedspartner.no
DTSTAMP:20250814T080000Z
DTSTART:20250814T080000Z
DTEND:20250814T150000Z
LAST-MODIFIED:20250821T081439Z
SUMMARY:Arendalsuka Dag 4
DESCRIPTION:Her finner du oversikten over programmet på Rygerelektra under fjerde dag i Arendalsuka.
X-ALT-DESC:Her finner du oversikten over programmet p&#229; Rygerelektra under fjerde dag i Arendalsuka.
LOCATION:Rygerelektra, Pollen Arendal
END:VEVENT


END:VCALENDAR



