
BEGIN:VCALENDAR
VERSION:2.0
PRODID:-//MarkedsPartner AS//Umbraco CMS//NO
TIMEZONE-ID:Europe/Oslo
X-WR-TIMEZONE:Europe/Oslo


BEGIN:VEVENT
UID:de28018a81ae4d88b0f65b2b9cd5bc5d
URL:https://umbraco.naeringsforeningen.no/moeter/arkiv/arendalsuka-dag-4/
ORGANIZER;CN=Ola Normann:MAILTO:ola.normann@markedspartner.no
DTSTAMP:20220818T060000Z
DTSTART:20220818T060000Z
DTEND:20220818T210000Z
LAST-MODIFIED:20221031T121737Z
SUMMARY:Arendalsuka Dag 4
DESCRIPTION:RygerElektra avslutter en innholdsrik Arendalsuke med diskusjoner om energiproduksjonsmulighetene rundt vannkraft og hybride kraftsystemer.
X-ALT-DESC:RygerElektra avslutter en innholdsrik Arendalsuke med diskusjoner om energiproduksjonsmulighetene rundt vannkraft og hybride kraftsystemer.
LOCATION:Rygerelektra, Pollen Arendal
END:VEVENT


END:VCALENDAR



