
BEGIN:VCALENDAR
VERSION:2.0
PRODID:-//MarkedsPartner AS//Umbraco CMS//NO
TIMEZONE-ID:Europe/Oslo
X-WR-TIMEZONE:Europe/Oslo


BEGIN:VEVENT
UID:3661a539572b4d1584f24d685afbdfd7
URL:https://umbraco.naeringsforeningen.no/moeter/arkiv/arendalsuka-dag-3_160823/
ORGANIZER;CN=Ola Normann:MAILTO:ola.normann@markedspartner.no
DTSTAMP:20230816T060000Z
DTSTART:20230816T060000Z
DTEND:20230816T210000Z
LAST-MODIFIED:20230821T071815Z
SUMMARY:Arendalsuka Dag 3
DESCRIPTION:Tredje dag i Arendalsuka får vi høre fra Norsea, UiS, Energihovedstaden, Smart Care Cluster, Stiim og Energy Transiton Norway.
X-ALT-DESC:Tredje dag i Arendalsuka f&#229;r vi h&#248;re fra Norsea, UiS, Energihovedstaden, Smart Care Cluster, Stiim og Energy Transiton Norway.
LOCATION:Rygerelektra, Pollen, Arendal
END:VEVENT


END:VCALENDAR



