
BEGIN:VCALENDAR
VERSION:2.0
PRODID:-//MarkedsPartner AS//Umbraco CMS//NO
TIMEZONE-ID:Europe/Oslo
X-WR-TIMEZONE:Europe/Oslo


BEGIN:VEVENT
UID:d5f3dad6c4034ca79b866edbe5fae1aa
URL:https://umbraco.naeringsforeningen.no/moeter/arkiv/arendalsuka-dag-3_140824/
ORGANIZER;CN=Ola Normann:MAILTO:ola.normann@markedspartner.no
DTSTAMP:20240814T063000Z
DTSTART:20240814T063000Z
DTEND:20240814T160000Z
LAST-MODIFIED:20240819T080043Z
SUMMARY:Arendalsuka Dag 3
DESCRIPTION:Her finner du oversikten over programmet på Rygerelektra under tredje dag på Arendalsuka.
X-ALT-DESC:Her finner du oversikten over programmet p&#229; Rygerelektra under tredje dag p&#229; Arendalsuka.
LOCATION:Rygerelektra, Pollen Arendal
END:VEVENT


END:VCALENDAR



