
BEGIN:VCALENDAR
VERSION:2.0
PRODID:-//MarkedsPartner AS//Umbraco CMS//NO
TIMEZONE-ID:Europe/Oslo
X-WR-TIMEZONE:Europe/Oslo


BEGIN:VEVENT
UID:ef16112e231640528030db7a17db65fe
URL:https://umbraco.naeringsforeningen.no/moeter/arkiv/arendalsuka-dag-3_130825/
ORGANIZER;CN=Ola Normann:MAILTO:ola.normann@markedspartner.no
DTSTAMP:20250813T080000Z
DTSTART:20250813T080000Z
DTEND:20250813T170000Z
LAST-MODIFIED:20250821T081417Z
SUMMARY:Arendalsuka Dag 3
DESCRIPTION:Her finner du oversikten over programmet på Rygerelektra under tredje dag på Arendalsuka.
X-ALT-DESC:Her finner du oversikten over programmet p&#229; Rygerelektra under tredje dag p&#229; Arendalsuka.
LOCATION:Rygerelektra, Pollen Arendal
END:VEVENT


END:VCALENDAR



